BEGIN:VCALENDAR
VERSION:2.0
PRODID:icalendar-ruby
CALSCALE:GREGORIAN
METHOD:PUBLISH
BEGIN:VEVENT
DTSTAMP:20260419T153006Z
UID:31-403596@stjamesflorence.com
DTSTART:20251005T135000Z
DTEND:20251005T145000Z
CLASS:PUBLIC
CREATED:20260419T075807
DESCRIPTION:
LAST-MODIFIED:20260419T075807
LOCATION:Family Life Center
SUMMARY:Contemporary Service
URL;VALUE=URI:https://www.stjamesflorence.com/events/contemporary-service/2
 025-10-05
END:VEVENT
END:VCALENDAR
