BEGIN:VCALENDAR
VERSION:2.0
PRODID:icalendar-ruby
CALSCALE:GREGORIAN
METHOD:PUBLISH
BEGIN:VEVENT
DTSTAMP:20260419T171551Z
UID:31-403979@stjamesflorence.com
DTSTART:20251012T135000Z
DTEND:20251012T145000Z
CLASS:PUBLIC
CREATED:20260419T114002
DESCRIPTION:
LAST-MODIFIED:20260419T114002
LOCATION:Family Life Center
SUMMARY:Contemporary Service
URL;VALUE=URI:https://www.stjamesflorence.com/events/contemporary-service/2
 025-10-12
END:VEVENT
END:VCALENDAR
