BEGIN:VCALENDAR
VERSION:2.0
PRODID:icalendar-ruby
CALSCALE:GREGORIAN
METHOD:PUBLISH
BEGIN:VEVENT
DTSTAMP:20260419T202612Z
UID:31-404367@stjamesflorence.com
DTSTART:20251026T135000Z
DTEND:20251026T145000Z
CLASS:PUBLIC
CREATED:20260419T152225
DESCRIPTION:
LAST-MODIFIED:20260419T152225
LOCATION:Family Life Center
SUMMARY:Contemporary Service
URL;VALUE=URI:https://www.stjamesflorence.com/events/contemporary-service/2
 025-10-26
END:VEVENT
END:VCALENDAR
