BEGIN:VCALENDAR
VERSION:2.0
PRODID:icalendar-ruby
CALSCALE:GREGORIAN
METHOD:PUBLISH
BEGIN:VEVENT
DTSTAMP:20260421T221346Z
UID:31-409429@stjamesflorence.com
DTSTART:20260823T135000Z
DTEND:20260823T145000Z
CLASS:PUBLIC
CREATED:20260421T145604
DESCRIPTION:
LAST-MODIFIED:20260421T145604
LOCATION:Family Life Center
SUMMARY:Contemporary Service
URL;VALUE=URI:https://www.stjamesflorence.com/events/contemporary-service/2
 026-08-23
END:VEVENT
END:VCALENDAR
