BEGIN:VCALENDAR
VERSION:2.0
PRODID:icalendar-ruby
CALSCALE:GREGORIAN
METHOD:PUBLISH
BEGIN:VEVENT
DTSTAMP:20260421T235152Z
UID:31-409816@stjamesflorence.com
DTSTART:20260830T135000Z
DTEND:20260830T145000Z
CLASS:PUBLIC
CREATED:20260421T173410
DESCRIPTION:
LAST-MODIFIED:20260421T173410
LOCATION:Family Life Center
SUMMARY:Contemporary Service
URL;VALUE=URI:https://www.stjamesflorence.com/events/contemporary-service/2
 026-08-30
END:VEVENT
END:VCALENDAR
