BEGIN:VCALENDAR
VERSION:2.0
PRODID:icalendar-ruby
CALSCALE:GREGORIAN
METHOD:PUBLISH
BEGIN:VEVENT
DTSTAMP:20260422T012124Z
UID:31-410203@stjamesflorence.com
DTSTART:20260906T135000Z
DTEND:20260906T145000Z
CLASS:PUBLIC
CREATED:20260421T201302
DESCRIPTION:
LAST-MODIFIED:20260421T201302
LOCATION:Family Life Center
SUMMARY:Contemporary Service
URL;VALUE=URI:https://www.stjamesflorence.com/events/contemporary-service/2
 026-09-06
END:VEVENT
END:VCALENDAR
