BEGIN:VCALENDAR
VERSION:2.0
PRODID:icalendar-ruby
CALSCALE:GREGORIAN
METHOD:PUBLISH
BEGIN:VEVENT
DTSTAMP:20260422T112628Z
UID:31-410210@stjamesflorence.com
DTSTART:20261025T135000Z
DTEND:20261025T145000Z
CLASS:PUBLIC
CREATED:20260421T201302
DESCRIPTION:
LAST-MODIFIED:20260421T201302
LOCATION:Family Life Center
SUMMARY:Contemporary Service
URL;VALUE=URI:https://www.stjamesflorence.com/events/contemporary-service/2
 026-10-25
END:VEVENT
END:VCALENDAR
