BEGIN:VCALENDAR
VERSION:2.0
PRODID:icalendar-ruby
CALSCALE:GREGORIAN
METHOD:PUBLISH
BEGIN:VEVENT
DTSTAMP:20260422T125222Z
UID:31-410597@stjamesflorence.com
DTSTART:20261101T145000Z
DTEND:20261101T155000Z
CLASS:PUBLIC
CREATED:20260422T071902
DESCRIPTION:
LAST-MODIFIED:20260422T071902
LOCATION:Family Life Center
SUMMARY:Contemporary Service
URL;VALUE=URI:https://www.stjamesflorence.com/events/contemporary-service/2
 026-11-01
END:VEVENT
END:VCALENDAR
