BEGIN:VCALENDAR
VERSION:2.0
PRODID:icalendar-ruby
CALSCALE:GREGORIAN
METHOD:PUBLISH
BEGIN:VEVENT
DTSTAMP:20260422T221159Z
UID:67-392734@stjamesflorence.com
DTSTART:20260805T230000Z
DTEND:20260806T000000Z
CLASS:PUBLIC
CREATED:20260414T135126
DESCRIPTION:Date: August 5\nLocation: Family Life Center\nJoin us for a pow
 erful time of prayer as we come together in faith to seek God’s presence
 . This gathering is an opportunity for our community to unite in prayer an
 d find strength\, peace\, and direction for the upcoming fall season.\nWhe
 ther you are seeking guidance\, healing\, or simply a deeper connection wi
 th God\, this service is for you. Let’s lift our voices together\, encou
 raging one another as we embark on this journey of faith.\nAll are welcome
 ! \nBring your family and friends as we pray for our church\, our families
 \, and our community. Together\, let us open our hearts and minds to the t
 ransformative power of prayer.\nWe look forward to seeing you there!
LAST-MODIFIED:20260414T135126
LOCATION:Family Life Center
SUMMARY:Prayer Service
URL;VALUE=URI:https://www.stjamesflorence.com/events/prayer-service/2026-08
 -05
ATTACH;FILENAME=PRAYER-NIGHT.png;FMTTYPE=image/png:https://dq5pwpg1q8ru0.cl
 oudfront.net/2026/04/14/18/51/26/d2f80532-0afb-428c-b018-314c98b871c6/PRAY
 ER-NIGHT.png
END:VEVENT
END:VCALENDAR
