BEGIN:VCALENDAR
VERSION:2.0
PRODID:icalendar-ruby
CALSCALE:GREGORIAN
METHOD:PUBLISH
BEGIN:VEVENT
DTSTAMP:20260423T064107Z
UID:21-412369@stjamesflorence.com
DTSTART:20260913T150000Z
DTEND:20260913T164500Z
CLASS:PUBLIC
CREATED:20260422T214959
DESCRIPTION:
LAST-MODIFIED:20260422T214959
LOCATION:Classrooms
SUMMARY:Sunday Groups
URL;VALUE=URI:https://www.stjamesflorence.com/events/sunday-groups/2026-09-
 13
END:VEVENT
END:VCALENDAR
