BEGIN:VCALENDAR
VERSION:2.0
PRODID:icalendar-ruby
CALSCALE:GREGORIAN
METHOD:PUBLISH
BEGIN:VEVENT
DTSTAMP:20260423T112727Z
UID:21-412372@stjamesflorence.com
DTSTART:20261004T150000Z
DTEND:20261004T164500Z
CLASS:PUBLIC
CREATED:20260422T214959
DESCRIPTION:
LAST-MODIFIED:20260422T214959
LOCATION:Classrooms
SUMMARY:Sunday Groups
URL;VALUE=URI:https://www.stjamesflorence.com/events/sunday-groups/2026-10-
 04
END:VEVENT
END:VCALENDAR
