BEGIN:VCALENDAR
VERSION:2.0
PRODID:icalendar-ruby
CALSCALE:GREGORIAN
METHOD:PUBLISH
BEGIN:VEVENT
DTSTAMP:20260423T130825Z
UID:21-412761@stjamesflorence.com
DTSTART:20261011T150000Z
DTEND:20261011T164500Z
CLASS:PUBLIC
CREATED:20260423T072016
DESCRIPTION:
LAST-MODIFIED:20260423T072016
LOCATION:Classrooms
SUMMARY:Sunday Groups
URL;VALUE=URI:https://www.stjamesflorence.com/events/sunday-groups/2026-10-
 11
END:VEVENT
END:VCALENDAR
