BEGIN:VCALENDAR
VERSION:2.0
PRODID:icalendar-ruby
CALSCALE:GREGORIAN
METHOD:PUBLISH
BEGIN:VEVENT
DTSTAMP:20260423T144210Z
UID:21-412762@stjamesflorence.com
DTSTART:20261018T150000Z
DTEND:20261018T164500Z
CLASS:PUBLIC
CREATED:20260423T072016
DESCRIPTION:
LAST-MODIFIED:20260423T072016
LOCATION:Classrooms
SUMMARY:Sunday Groups
URL;VALUE=URI:https://www.stjamesflorence.com/events/sunday-groups/2026-10-
 18
END:VEVENT
END:VCALENDAR
