BEGIN:VCALENDAR
VERSION:2.0
PRODID:icalendar-ruby
CALSCALE:GREGORIAN
METHOD:PUBLISH
BEGIN:VEVENT
DTSTAMP:20260423T161352Z
UID:21-413151@stjamesflorence.com
DTSTART:20261025T150000Z
DTEND:20261025T164500Z
CLASS:PUBLIC
CREATED:20260423T101254
DESCRIPTION:
LAST-MODIFIED:20260423T101254
LOCATION:Classrooms
SUMMARY:Sunday Groups
URL;VALUE=URI:https://www.stjamesflorence.com/events/sunday-groups/2026-10-
 25
END:VEVENT
END:VCALENDAR
