BEGIN:VCALENDAR
VERSION:2.0
PRODID:icalendar-ruby
CALSCALE:GREGORIAN
METHOD:PUBLISH
BEGIN:VEVENT
DTSTAMP:20260423T174106Z
UID:21-413152@stjamesflorence.com
DTSTART:20261101T160000Z
DTEND:20261101T174500Z
CLASS:PUBLIC
CREATED:20260423T101254
DESCRIPTION:
LAST-MODIFIED:20260423T101254
LOCATION:Classrooms
SUMMARY:Sunday Groups
URL;VALUE=URI:https://www.stjamesflorence.com/events/sunday-groups/2026-11-
 01
END:VEVENT
END:VCALENDAR
