BEGIN:VCALENDAR
VERSION:2.0
PRODID:icalendar-ruby
CALSCALE:GREGORIAN
METHOD:PUBLISH
BEGIN:VEVENT
DTSTAMP:20260423T105903Z
UID:23-412447@stjamesflorence.com
DTSTART:20260705T160000Z
DTEND:20260705T170000Z
CLASS:PUBLIC
CREATED:20260422T214959
DESCRIPTION:
LAST-MODIFIED:20260422T214959
LOCATION:Sanctuary
SUMMARY:Traditional Worship Service
URL;VALUE=URI:https://www.stjamesflorence.com/events/traditional-worship-se
 rvice/2026-07-05
END:VEVENT
END:VCALENDAR
