BEGIN:VCALENDAR
VERSION:2.0
PRODID:icalendar-ruby
CALSCALE:GREGORIAN
METHOD:PUBLISH
BEGIN:VEVENT
DTSTAMP:20260423T173028Z
UID:23-413227@stjamesflorence.com
DTSTART:20260802T160000Z
DTEND:20260802T170000Z
CLASS:PUBLIC
CREATED:20260423T101254
DESCRIPTION:
LAST-MODIFIED:20260423T101254
LOCATION:Sanctuary
SUMMARY:Traditional Worship Service
URL;VALUE=URI:https://www.stjamesflorence.com/events/traditional-worship-se
 rvice/2026-08-02
END:VEVENT
END:VCALENDAR
