BEGIN:VCALENDAR
VERSION:2.0
PRODID:icalendar-ruby
CALSCALE:GREGORIAN
METHOD:PUBLISH
BEGIN:VEVENT
DTSTAMP:20260423T205115Z
UID:23-413617@stjamesflorence.com
DTSTART:20260816T160000Z
DTEND:20260816T170000Z
CLASS:PUBLIC
CREATED:20260423T130900
DESCRIPTION:
LAST-MODIFIED:20260423T130900
LOCATION:Sanctuary
SUMMARY:Traditional Worship Service
URL;VALUE=URI:https://www.stjamesflorence.com/events/traditional-worship-se
 rvice/2026-08-16
END:VEVENT
END:VCALENDAR
