BEGIN:VCALENDAR
VERSION:2.0
PRODID:icalendar-ruby
CALSCALE:GREGORIAN
METHOD:PUBLISH
BEGIN:VEVENT
DTSTAMP:20260423T234213Z
UID:23-414007@stjamesflorence.com
DTSTART:20260830T160000Z
DTEND:20260830T170000Z
CLASS:PUBLIC
CREATED:20260423T160426
DESCRIPTION:
LAST-MODIFIED:20260423T160426
LOCATION:Sanctuary
SUMMARY:Traditional Worship Service
URL;VALUE=URI:https://www.stjamesflorence.com/events/traditional-worship-se
 rvice/2026-08-30
END:VEVENT
END:VCALENDAR
