BEGIN:VCALENDAR
VERSION:2.0
PRODID:icalendar-ruby
CALSCALE:GREGORIAN
METHOD:PUBLISH
BEGIN:VEVENT
DTSTAMP:20260424T023510Z
UID:23-414397@stjamesflorence.com
DTSTART:20260913T160000Z
DTEND:20260913T170000Z
CLASS:PUBLIC
CREATED:20260423T185738
DESCRIPTION:
LAST-MODIFIED:20260423T185738
LOCATION:Sanctuary
SUMMARY:Traditional Worship Service
URL;VALUE=URI:https://www.stjamesflorence.com/events/traditional-worship-se
 rvice/2026-09-13
END:VEVENT
END:VCALENDAR
