BEGIN:VCALENDAR
VERSION:2.0
PRODID:icalendar-ruby
CALSCALE:GREGORIAN
METHOD:PUBLISH
BEGIN:VEVENT
DTSTAMP:20260424T121807Z
UID:23-414792@stjamesflorence.com
DTSTART:20261101T170000Z
DTEND:20261101T180000Z
CLASS:PUBLIC
CREATED:20260423T215210
DESCRIPTION:
LAST-MODIFIED:20260423T215210
LOCATION:Sanctuary
SUMMARY:Traditional Worship Service
URL;VALUE=URI:https://www.stjamesflorence.com/events/traditional-worship-se
 rvice/2026-11-01
END:VEVENT
END:VCALENDAR
